BEGIN:VCALENDAR
VERSION:2.0
PRODID:-//Genuine Education and Visa Services - ECPv6.9.0//NONSGML v1.0//EN
CALSCALE:GREGORIAN
METHOD:PUBLISH
X-WR-CALNAME:Genuine Education and Visa Services
X-ORIGINAL-URL:https://genuineeducation.com.au
X-WR-CALDESC:Events for Genuine Education and Visa Services
REFRESH-INTERVAL;VALUE=DURATION:PT1H
X-Robots-Tag:noindex
X-PUBLISHED-TTL:PT1H
BEGIN:VTIMEZONE
TZID:UTC
BEGIN:STANDARD
TZOFFSETFROM:+0000
TZOFFSETTO:+0000
TZNAME:UTC
DTSTART:20250101T000000
END:STANDARD
END:VTIMEZONE
BEGIN:VEVENT
DTSTART;TZID=UTC:20250107T100000
DTEND;TZID=UTC:20250107T120000
DTSTAMP:20260425T152457
CREATED:20241227T092035Z
LAST-MODIFIED:20250227T102717Z
UID:6472-1736244000-1736251200@genuineeducation.com.au
SUMMARY:Discover Opportunities at The University of Melbourne
DESCRIPTION:This is your chance to explore how UOM can help you achieve your academic and career aspirations. Hear about scholarships\, campus life\, and personalized support that makes UOM a standout choice for students worldwide. \nEvent Details:\nDate: 1st January 2024\n Time: 10:00 AM – 12:00 PM\n Venue: Noble Career Gurus Head Office \nThe University of Melbourne offers international students a range of opportunities\, including: \n\nWorld-Class Education: High-ranking programs across various disciplines with global recognition.\nInternational Scholarships: Scholarships for undergraduate and postgraduate students.\nGlobal Networking: A diverse student body and strong industry connections for career opportunities.\nSupport Services: Tailored support for academics\, career advice\, and cultural adjustment.\nResearch Opportunities: Access to cutting-edge research and funding for graduate students.\nWork Opportunities: Post-study work visas and internships to gain practical experience.\nCultural Activities: Clubs\, societies\, volunteering\, and cultural immersion.\nExchange Programs: Opportunities for global mobility and international exposure.\nEntrepreneurial Support: Access to mentorship\, funding\, and startup incubators.\nAlumni Network: A global network for career connections and professional development.\n\nThese opportunities help international students succeed academically\, professionally\, and personally during their time at the University of Melbourne.
URL:https://genuineeducation.com.au/event/discover-opportunities-at-the-university-of-melbourne/
CATEGORIES:consultation
ATTACH;FMTTYPE=image/png:https://genuineeducation.com.au/wp-content/uploads/2024/12/EmpWk2023_EventTiles_700x350px_MASTER_FILE_0007_GA000488.png
ORGANIZER;CN="Noble Career Gurus":MAILTO:info.ktm@noblecareergurus.com
END:VEVENT
BEGIN:VEVENT
DTSTART;TZID=UTC:20250107T080000
DTEND;TZID=UTC:20250110T170000
DTSTAMP:20260425T152457
CREATED:20241227T090442Z
LAST-MODIFIED:20241227T092518Z
UID:6444-1736236800-1736528400@genuineeducation.com.au
SUMMARY:Meet The Representative from University of Technology Sydney
DESCRIPTION:𝗗𝗲𝗮𝗿 𝗦𝘁𝘂𝗱𝗲𝗻𝘁𝘀\,\n𝐆𝐞𝐭 $𝟓𝟎𝟎 𝐟𝐮𝐥𝐥 𝐜𝐨𝐮𝐫𝐬𝐞 𝐒𝐜𝐡𝐨𝐥𝐚𝐫𝐬𝐡𝐢𝐩 𝐟𝐨𝐫 𝐔𝐆 𝐂𝐨𝐮𝐫𝐬𝐞 𝐚𝐧𝐝 𝐏𝐆 𝐂𝐨𝐮𝐫𝐬𝐞𝐬 𝐚𝐭 𝐭𝐡𝐞 #UTS \n𝐌𝐞𝐞𝐭 𝐊𝐚𝐫𝐚𝐧 𝐌𝐞𝐡𝐫𝐚 | 𝐑𝐞𝐠𝐢𝐨𝐧𝐚𝐥 𝐌𝐚𝐧𝐚𝐠𝐞𝐫\n𝐃𝐚𝐭𝐞 & 𝐓𝐢𝐦𝐞: 7𝐭𝐡 January| 8 𝐀𝐌 – 5𝐏𝐌\n𝐕𝐞𝐧𝐮𝐞: 𝐊𝐈𝐄𝐂 𝐏𝐮𝐭𝐚𝐥𝐢𝐬𝐚𝐝𝐚𝐤 \n𝗣𝗹𝗲𝗮𝘀𝗲 𝘃𝗶𝘀𝗶𝘁 𝘂𝘀 𝗳𝗼𝗿 𝗰𝗮𝗿𝗲𝗲𝗿 𝗰𝗼𝘂𝗻𝘀𝗲𝗹𝗶𝗻𝗴 𝗮𝗻𝗱 𝗱𝗼𝗻’𝘁 𝗺𝗶𝘀𝘀 𝘁𝗵𝗲 𝗻𝗲𝗮𝗿𝗲𝘀𝘁 𝗶𝗻𝘁𝗮𝗸𝗲 𝘁𝗼 𝘀𝘁𝘂𝗱𝘆 𝗶𝗻 𝘆𝗼𝘂𝗿 𝗳𝗮𝘃𝗼𝗿𝗶𝘁𝗲 𝗱𝗲𝘀𝘁𝗶𝗻𝗮𝘁𝗶𝗼𝗻.\nStudy in Australia \nExperience world-class education\, harness your talents\, and achieve your dreams with the University of Technology Sydney (UTS). \n𝐈𝐧𝐭𝐚𝐤𝐞 February 2025\n𝐈𝐧𝐭𝐞𝐫𝐧𝐬𝐡𝐢𝐩 𝐚𝐯𝐚𝐢𝐥𝐚𝐛𝐥𝐞* \n  \nWhy study a UTS?\nAt the University of Technology Sydney\, we aim to inspire students to become creative professionals and connect them to exciting and rewarding careers. \nBased in the heart of one of the Australia’s most successful business regions\, the University has a range of highly qualiﬁed staff\, with a wealth of experience in their respective disciplines\, and strong connections with key industries. \nThe University has a strong reputation for high-quality education closely linked to employment: our graduates go on to achieve great success in their chosen disciplines and professions.\nPlease visit any of our offices and achieve your dream of further education!” \n#DiscussYourStudyOptionsWithUs\n#StudyInAustralia  #successstories #uts #UG #Bachelor #BusinessStudies #Entrepreneurship #Nobelguru\n#Australia #Sydney
URL:https://genuineeducation.com.au/event/meet-the-representative-from-university-of-technology-sydney/
LOCATION:Noble Career Avenue\, Baneshwor\, Kathmandu\, Bagmati\, Nepal
CATEGORIES:Learning Events
ATTACH;FMTTYPE=image/jpeg:https://genuineeducation.com.au/wp-content/uploads/2024/12/Higher-Education-Fair-1.jpg
ORGANIZER;CN="Noble Career Gurus":MAILTO:info.ktm@noblecareergurus.com
END:VEVENT
END:VCALENDAR